BEGIN:VCALENDAR
VERSION:2.0
PRODID:-//hacksw/handcal//NONSGML v1.0//EN
BEGIN:VEVENT
SUMMARY:Semaine familiale
UID:84f9459f-d6f8-4f86-8ba7-9ad7693e1c3d
DTSTART:20260522T220000Z
DTEND:20260530T220000Z
LOCATION:Localisation   
CATEGORIES:Sportif
STATUS:
URL;VALUE=URI:https://cycloslabaule.sportsregions.fr/evenements/2026/05/23/semaine-familiale-2440000
END:VEVENT
END:VCALENDAR
